BEGIN:VCALENDAR
VERSION:2.0
PRODID:-//tennis-werne.de - ECPv6.15.20//NONSGML v1.0//EN
CALSCALE:GREGORIAN
METHOD:PUBLISH
X-ORIGINAL-URL:https://www.tennis-werne.de
X-WR-CALDESC:Veranstaltungen für tennis-werne.de
REFRESH-INTERVAL;VALUE=DURATION:PT1H
X-Robots-Tag:noindex
X-PUBLISHED-TTL:PT1H
BEGIN:VTIMEZONE
TZID:Europe/Berlin
BEGIN:DAYLIGHT
TZOFFSETFROM:+0100
TZOFFSETTO:+0200
TZNAME:CEST
DTSTART:20190331T010000
END:DAYLIGHT
BEGIN:STANDARD
TZOFFSETFROM:+0200
TZOFFSETTO:+0100
TZNAME:CET
DTSTART:20191027T010000
END:STANDARD
BEGIN:DAYLIGHT
TZOFFSETFROM:+0100
TZOFFSETTO:+0200
TZNAME:CEST
DTSTART:20200329T010000
END:DAYLIGHT
BEGIN:STANDARD
TZOFFSETFROM:+0200
TZOFFSETTO:+0100
TZNAME:CET
DTSTART:20201025T010000
END:STANDARD
BEGIN:DAYLIGHT
TZOFFSETFROM:+0100
TZOFFSETTO:+0200
TZNAME:CEST
DTSTART:20210328T010000
END:DAYLIGHT
BEGIN:STANDARD
TZOFFSETFROM:+0200
TZOFFSETTO:+0100
TZNAME:CET
DTSTART:20211031T010000
END:STANDARD
END:VTIMEZONE
BEGIN:VEVENT
DTSTART;VALUE=DATE:20200611
DTEND;VALUE=DATE:20200612
DTSTAMP:20260423T230155
CREATED:20200603T065017Z
LAST-MODIFIED:20200705T120511Z
UID:8141-1591833600-1591919999@www.tennis-werne.de
SUMMARY:Tages-LK-Turnier (W/M 40/50)
DESCRIPTION:
URL:https://www.tennis-werne.de/event/lk-turnier-w-m-40-50/
LOCATION:TC BW Werne\, Pagensstr. 22\, 59368 Werne
CATEGORIES:Turnier
END:VEVENT
END:VCALENDAR