BEGIN:VCALENDAR
VERSION:2.0
PRODID:-//tennis-werne.de - ECPv6.15.20//NONSGML v1.0//EN
CALSCALE:GREGORIAN
METHOD:PUBLISH
X-WR-CALNAME:tennis-werne.de
X-ORIGINAL-URL:https://www.tennis-werne.de
X-WR-CALDESC:Veranstaltungen für tennis-werne.de
REFRESH-INTERVAL;VALUE=DURATION:PT1H
X-Robots-Tag:noindex
X-PUBLISHED-TTL:PT1H
BEGIN:VTIMEZONE
TZID:Europe/Berlin
BEGIN:DAYLIGHT
TZOFFSETFROM:+0100
TZOFFSETTO:+0200
TZNAME:CEST
DTSTART:20180325T010000
END:DAYLIGHT
BEGIN:STANDARD
TZOFFSETFROM:+0200
TZOFFSETTO:+0100
TZNAME:CET
DTSTART:20181028T010000
END:STANDARD
BEGIN:DAYLIGHT
TZOFFSETFROM:+0100
TZOFFSETTO:+0200
TZNAME:CEST
DTSTART:20190331T010000
END:DAYLIGHT
BEGIN:STANDARD
TZOFFSETFROM:+0200
TZOFFSETTO:+0100
TZNAME:CET
DTSTART:20191027T010000
END:STANDARD
BEGIN:DAYLIGHT
TZOFFSETFROM:+0100
TZOFFSETTO:+0200
TZNAME:CEST
DTSTART:20200329T010000
END:DAYLIGHT
BEGIN:STANDARD
TZOFFSETFROM:+0200
TZOFFSETTO:+0100
TZNAME:CET
DTSTART:20201025T010000
END:STANDARD
END:VTIMEZONE
BEGIN:VEVENT
DTSTART;VALUE=DATE:20190914
DTEND;VALUE=DATE:20190915
DTSTAMP:20260424T123851
CREATED:20190305T071042Z
LAST-MODIFIED:20200705T120958Z
UID:6935-1568419200-1568505599@www.tennis-werne.de
SUMMARY:Endspiele der Hobbymannschaften des Bezirks Münsterland
DESCRIPTION:
URL:https://www.tennis-werne.de/event/endspiele-der-hobbymannschaften-des-bezirks-muensterland/
LOCATION:TC BW Werne\, Pagensstr. 22\, 59368 Werne
CATEGORIES:Turnier
END:VEVENT
BEGIN:VEVENT
DTSTART;VALUE=DATE:20190918
DTEND;VALUE=DATE:20190923
DTSTAMP:20260424T123851
CREATED:20190305T071019Z
LAST-MODIFIED:20200705T120944Z
UID:6938-1568764800-1569196799@www.tennis-werne.de
SUMMARY:Offene Stadtmeisterschaften von Werne
DESCRIPTION:
URL:https://www.tennis-werne.de/event/offene-stadtmeisterschaften-von-werne/
LOCATION:TC BW Werne\, Pagensstr. 22\, 59368 Werne
CATEGORIES:Turnier
END:VEVENT
BEGIN:VEVENT
DTSTART;TZID=Europe/Berlin:20190929T110000
DTEND;TZID=Europe/Berlin:20190929T170000
DTSTAMP:20260424T123851
CREATED:20190305T070944Z
LAST-MODIFIED:20190813T132011Z
UID:6941-1569754800-1569776400@www.tennis-werne.de
SUMMARY:3. Breti-Cup
DESCRIPTION:
URL:https://www.tennis-werne.de/event/breti-cup/
LOCATION:TC BW Werne\, Pagensstr. 22\, 59368 Werne
ORGANIZER;CN="TC BW Werne I Birgit L%C3%BCckel":MAILTO:birgitlueckel@yahoo.de
END:VEVENT
END:VCALENDAR