BEGIN:VCALENDAR
VERSION:2.0
PRODID:-//tennis-werne.de - ECPv6.15.20//NONSGML v1.0//EN
CALSCALE:GREGORIAN
METHOD:PUBLISH
X-ORIGINAL-URL:https://www.tennis-werne.de
X-WR-CALDESC:Veranstaltungen für tennis-werne.de
REFRESH-INTERVAL;VALUE=DURATION:PT1H
X-Robots-Tag:noindex
X-PUBLISHED-TTL:PT1H
BEGIN:VTIMEZONE
TZID:Europe/Berlin
BEGIN:DAYLIGHT
TZOFFSETFROM:+0100
TZOFFSETTO:+0200
TZNAME:CEST
DTSTART:20180325T010000
END:DAYLIGHT
BEGIN:STANDARD
TZOFFSETFROM:+0200
TZOFFSETTO:+0100
TZNAME:CET
DTSTART:20181028T010000
END:STANDARD
BEGIN:DAYLIGHT
TZOFFSETFROM:+0100
TZOFFSETTO:+0200
TZNAME:CEST
DTSTART:20190331T010000
END:DAYLIGHT
BEGIN:STANDARD
TZOFFSETFROM:+0200
TZOFFSETTO:+0100
TZNAME:CET
DTSTART:20191027T010000
END:STANDARD
BEGIN:DAYLIGHT
TZOFFSETFROM:+0100
TZOFFSETTO:+0200
TZNAME:CEST
DTSTART:20200329T010000
END:DAYLIGHT
BEGIN:STANDARD
TZOFFSETFROM:+0200
TZOFFSETTO:+0100
TZNAME:CET
DTSTART:20201025T010000
END:STANDARD
END:VTIMEZONE
BEGIN:VEVENT
DTSTART;TZID=Europe/Berlin:20190424T100000
DTEND;TZID=Europe/Berlin:20190426T140000
DTSTAMP:20260424T192647
CREATED:20190305T071252Z
LAST-MODIFIED:20190305T071252Z
UID:6919-1556100000-1556287200@www.tennis-werne.de
SUMMARY:Trainingscamp
DESCRIPTION:
URL:https://www.tennis-werne.de/event/trainingscamp/
LOCATION:TC BW Werne\, Pagensstr. 22\, 59368 Werne
END:VEVENT
BEGIN:VEVENT
DTSTART;TZID=Europe/Berlin:20190428T100000
DTEND;TZID=Europe/Berlin:20190428T170000
DTSTAMP:20260424T192647
CREATED:20190305T071226Z
LAST-MODIFIED:20190305T071226Z
UID:6921-1556445600-1556470800@www.tennis-werne.de
SUMMARY:Deutschland spielt Tennis - Tag der offenen Tür
DESCRIPTION:
URL:https://www.tennis-werne.de/event/deutschland-spielt-tennis-tag-der-offenen-tuer/
LOCATION:TC BW Werne\, Pagensstr. 22\, 59368 Werne
END:VEVENT
END:VCALENDAR