BEGIN:VCALENDAR
VERSION:2.0
PRODID:-//tennis-werne.de - ECPv6.15.20//NONSGML v1.0//EN
CALSCALE:GREGORIAN
METHOD:PUBLISH
X-WR-CALNAME:tennis-werne.de
X-ORIGINAL-URL:https://www.tennis-werne.de
X-WR-CALDESC:Veranstaltungen für tennis-werne.de
REFRESH-INTERVAL;VALUE=DURATION:PT1H
X-Robots-Tag:noindex
X-PUBLISHED-TTL:PT1H
BEGIN:VTIMEZONE
TZID:Europe/Berlin
BEGIN:DAYLIGHT
TZOFFSETFROM:+0100
TZOFFSETTO:+0200
TZNAME:CEST
DTSTART:20180325T010000
END:DAYLIGHT
BEGIN:STANDARD
TZOFFSETFROM:+0200
TZOFFSETTO:+0100
TZNAME:CET
DTSTART:20181028T010000
END:STANDARD
BEGIN:DAYLIGHT
TZOFFSETFROM:+0100
TZOFFSETTO:+0200
TZNAME:CEST
DTSTART:20190331T010000
END:DAYLIGHT
BEGIN:STANDARD
TZOFFSETFROM:+0200
TZOFFSETTO:+0100
TZNAME:CET
DTSTART:20191027T010000
END:STANDARD
BEGIN:DAYLIGHT
TZOFFSETFROM:+0100
TZOFFSETTO:+0200
TZNAME:CEST
DTSTART:20200329T010000
END:DAYLIGHT
BEGIN:STANDARD
TZOFFSETFROM:+0200
TZOFFSETTO:+0100
TZNAME:CET
DTSTART:20201025T010000
END:STANDARD
END:VTIMEZONE
BEGIN:VEVENT
DTSTART;TZID=Europe/Berlin:20190315T180000
DTEND;TZID=Europe/Berlin:20190315T220000
DTSTAMP:20260424T204212
CREATED:20190305T071356Z
LAST-MODIFIED:20190305T071356Z
UID:6916-1552672800-1552687200@www.tennis-werne.de
SUMMARY:Winterwanderung mit Schatzsuche und Angrillen
DESCRIPTION:Das Jugend- und Breitensportteam lädt alle interessierten Kinder und Eltern in diesem Jahr wieder zur Schatzsuche und anschließendem Angrillen ein.
URL:https://www.tennis-werne.de/event/winterwanderung-mit-schatzsuche-und-angrillen/
LOCATION:TC BW Werne\, Pagensstr. 22\, 59368 Werne
END:VEVENT
END:VCALENDAR